BEGIN:VCALENDAR
VERSION:2.0
PRODID:-//Michaela Martin - ECPv5.14.1//NONSGML v1.0//EN
CALSCALE:GREGORIAN
METHOD:PUBLISH
X-WR-CALNAME:Michaela Martin
X-ORIGINAL-URL:https://michaela-martin.de
X-WR-CALDESC:Veranstaltungen für Michaela Martin
BEGIN:VTIMEZONE
TZID:Europe/Berlin
BEGIN:DAYLIGHT
TZOFFSETFROM:+0100
TZOFFSETTO:+0200
TZNAME:CEST
DTSTART:20240331T010000
END:DAYLIGHT
BEGIN:STANDARD
TZOFFSETFROM:+0200
TZOFFSETTO:+0100
TZNAME:CET
DTSTART:20241027T010000
END:STANDARD
END:VTIMEZONE
BEGIN:VEVENT
DTSTART;TZID=Europe/Berlin:20240723T063000
DTEND;TZID=Europe/Berlin:20240723T073000
DTSTAMP:20260424T161650
CREATED:20240705T204310Z
LAST-MODIFIED:20240705T204310Z
UID:24127-1721716200-1721719800@michaela-martin.de
SUMMARY:Frühaufsteher Yoga
DESCRIPTION:[eosb_row][eosb_column][eosb_column_text]\n\nYoga für Frühaufsteher\n \nDie Kunst der Aufmerksamkeit\n\n\n\n\nDer Begriff Yoga bedeutet Einheit von Körper\, Geist und Seele. Yoga ist die Verbindung zwischen deinem Atem und der Bewegung deines Körpers.\n\nBeim Yoga geht es darum\, die Balance zwischen Körper und Geist zu finden und innerlich still zu sein\, während dein Körper sich bewegt durch deinen Atem.\n\nYoga für Anfänger kann eine großartige Möglichkeit sein\, dein körperliches Wohlbefinden\, Entspannung und geistige Klarheit zu fördern.\n\n\n[/eosb_column_text][/eosb_column][/eosb_row]
URL:https://michaela-martin.de/event/fruehaufsteher-yoga-3-5-2
LOCATION:Creativum\, Mittlere Ortstrasse 53\, Rülzheim\, 76761\, Deutschland
ATTACH;FMTTYPE=image/jpeg:https://michaela-martin.de/wp-content/uploads/2023/10/michaela-martin-kreativ-semainare-naturcoaching-und-waldbaden-in-ruelzheim-karlsruhe-und-umgebung-yoga-9.jpg
END:VEVENT
BEGIN:VEVENT
DTSTART;TZID=Europe/Berlin:20240723T084500
DTEND;TZID=Europe/Berlin:20240723T100000
DTSTAMP:20260424T161650
CREATED:20240705T211116Z
LAST-MODIFIED:20240705T211116Z
UID:24148-1721724300-1721728800@michaela-martin.de
SUMMARY:Freestyle-Yoga
DESCRIPTION:[eosb_row][eosb_column][eosb_empty_space height=“12px“][eosb_column_text]\nFreestyle-Yoga\n\n \nEntdecke die Welt des Hatha Yoga und anderer Yogastile.\nEine spirituellen Reise zu sich selbst.\n \n\nUnsere Yogastunden laden dich ein\, deine innere Mitte zu finden und Körper\, Geist und Seele in Einklang zu bringen.\n\nErfahre die Kraft von Prana\, der Lebensenergie\, während wir durch sanfte\, kraftvolle Asanas gehen. Dabei fördern Sie nicht nur deine Flexibilität\, sondern auch deine körperliche Wahrnehmung und deine geistige Konzentration.\n\nDie individuellen Yogastunden sind darauf ausgerichtet\, deine persönlichen Bedürfnisse und Ziele zu berücksichtigen. Ich begleite dich auf deiner einzigartigen Yoga-Reise zur inneren Harmonie und spirituellen Wachstum.[/eosb_column_text][/eosb_column][/eosb_row]
URL:https://michaela-martin.de/event/freestyle-yoga-7-4
LOCATION:Creativum\, Mittlere Ortstrasse 53\, Rülzheim\, 76761\, Deutschland
ATTACH;FMTTYPE=image/jpeg:https://michaela-martin.de/wp-content/uploads/2023/10/michaela-martin-kreativ-seminare-naturcoaching-und-waldbaden-in-ruelzheim-karlsruhe-und-umgebung-yoga-8.jpg
END:VEVENT
BEGIN:VEVENT
DTSTART;TZID=Europe/Berlin:20240723T103000
DTEND;TZID=Europe/Berlin:20240723T114500
DTSTAMP:20260424T161651
CREATED:20240705T203043Z
LAST-MODIFIED:20240705T203319Z
UID:24117-1721730600-1721735100@michaela-martin.de
SUMMARY:Sanftes Yoga
DESCRIPTION:[eosb_row][eosb_column][eosb_column_text]\n\nSanftes Yoga\n\n\n\n\nYoga ist eine bereichernde und wohltuende Aktivität für Körper\, Seele und Geist.\n\nYoga hilft dir deine Beweglichkeit\, dein Gleichgewicht und deine Eigenständigkeit zu erlangen.\n\nDie Entspannung führt dich in ein körperliches Wohlgefühl\, zur inneren Ruhe und zu verbesserter Konzentration.\n\nYoga lässt sich für jeden individuell anpassen\, unabhängig von der vorhandenen Fitness oder Gelenkigkeit.\n\n\n[/eosb_column_text][/eosb_column][/eosb_row]
URL:https://michaela-martin.de/event/sanftes-yoga-1-2
LOCATION:Creativum\, Mittlere Ortstrasse 53\, Rülzheim\, 76761\, Deutschland
ATTACH;FMTTYPE=image/jpeg:https://michaela-martin.de/wp-content/uploads/2022/08/sanftes-yoga-fur-senioren-natur-germersheim.jpeg
END:VEVENT
BEGIN:VEVENT
DTSTART;TZID=Europe/Berlin:20240723T173000
DTEND;TZID=Europe/Berlin:20240723T184500
DTSTAMP:20260424T161651
CREATED:20240706T224909Z
LAST-MODIFIED:20240706T224937Z
UID:24217-1721755800-1721760300@michaela-martin.de
SUMMARY:Yoga für Anfänger und Mittelstufe
DESCRIPTION:[eosb_row][eosb_column][eosb_column_text]\n\nYoga für Anfänger und Mittelstufe\n\n \nDie Kunst der Aufmerksamkeit\n\n\n\n\nDer Begriff Yoga bedeutet Einheit von Körper\, Geist und Seele. Yoga ist die Verbindung zwischen deinem Atem und der Bewegung deines Körpers.\n\nBeim Yoga geht es darum\, die Balance zwischen Körper und Geist zu finden und innerlich still zu sein\, während dein Körper sich bewegt durch deinen Atem.\n\nYoga für Anfänger kann eine großartige Möglichkeit sein\, dein körperliches Wohlbefinden\, Entspannung und geistige Klarheit zu fördern.\n\n\n[/eosb_column_text][/eosb_column][/eosb_row]
URL:https://michaela-martin.de/event/yoga-am-abend-4-5-2-2
LOCATION:Creativum\, Mittlere Ortstrasse 53\, Rülzheim\, 76761\, Deutschland
ATTACH;FMTTYPE=image/jpeg:https://michaela-martin.de/wp-content/uploads/2023/10/michaela-martin-kreativ-seminare-naturcoaching-und-waldbaden-in-ruelzheim-karlsruhe-und-umgebung-yoga-12-1.jpg
END:VEVENT
END:VCALENDAR