BEGIN:VCALENDAR
VERSION:2.0
PRODID:-//Michaela Martin - ECPv5.14.1//NONSGML v1.0//EN
CALSCALE:GREGORIAN
METHOD:PUBLISH
X-WR-CALNAME:Michaela Martin
X-ORIGINAL-URL:https://michaela-martin.de
X-WR-CALDESC:Veranstaltungen für Michaela Martin
BEGIN:VTIMEZONE
TZID:Europe/Berlin
BEGIN:DAYLIGHT
TZOFFSETFROM:+0100
TZOFFSETTO:+0200
TZNAME:CEST
DTSTART:20240331T010000
END:DAYLIGHT
BEGIN:STANDARD
TZOFFSETFROM:+0200
TZOFFSETTO:+0100
TZNAME:CET
DTSTART:20241027T010000
END:STANDARD
END:VTIMEZONE
BEGIN:VEVENT
DTSTART;TZID=Europe/Berlin:20240604T063000
DTEND;TZID=Europe/Berlin:20240604T073000
DTSTAMP:20260424T173823
CREATED:20240509T095157Z
LAST-MODIFIED:20240509T095157Z
UID:22892-1717482600-1717486200@michaela-martin.de
SUMMARY:Frühaufsteher Yoga
DESCRIPTION:[eosb_row][eosb_column][eosb_column_text]\n\nYoga für Frühaufsteher\n \nDie Kunst der Aufmerksamkeit\n\n\n\n\nDer Begriff Yoga bedeutet Einheit von Körper\, Geist und Seele. Yoga ist die Verbindung zwischen deinem Atem und der Bewegung deines Körpers.\n\nBeim Yoga geht es darum\, die Balance zwischen Körper und Geist zu finden und innerlich still zu sein\, während dein Körper sich bewegt durch deinen Atem.\n\nYoga für Anfänger kann eine großartige Möglichkeit sein\, dein körperliches Wohlbefinden\, Entspannung und geistige Klarheit zu fördern.\n\n\n[/eosb_column_text][/eosb_column][/eosb_row]
URL:https://michaela-martin.de/event/fruehaufsteher-yoga-3-2
LOCATION:Creativum\, Mittlere Ortstrasse 53\, Rülzheim\, 76761\, Deutschland
ATTACH;FMTTYPE=image/jpeg:https://michaela-martin.de/wp-content/uploads/2023/10/michaela-martin-kreativ-semainare-naturcoaching-und-waldbaden-in-ruelzheim-karlsruhe-und-umgebung-yoga-9.jpg
END:VEVENT
BEGIN:VEVENT
DTSTART;TZID=Europe/Berlin:20240604T103000
DTEND;TZID=Europe/Berlin:20240604T114500
DTSTAMP:20260424T173823
CREATED:20231218T191914Z
LAST-MODIFIED:20240509T094042Z
UID:21901-1717497000-1717501500@michaela-martin.de
SUMMARY:Sanftes Yoga
DESCRIPTION:[eosb_row][eosb_column][eosb_column_text]\n\nSanftes Yoga\n\n\n\n\nYoga ist eine bereichernde und wohltuende Aktivität für Körper\, Seele und Geist.\n\nYoga hilft dir deine Beweglichkeit\, dein Gleichgewicht und deine Eigenständigkeit zu erlangen.\n\nDie Entspannung führt dich in ein körperliches Wohlgefühl\, zur inneren Ruhe und zu verbesserter Konzentration.\n\nYoga lässt sich für jeden individuell anpassen\, unabhängig von der vorhandenen Fitness oder Gelenkigkeit.\n\n\n[/eosb_column_text][/eosb_column][/eosb_row]
URL:https://michaela-martin.de/event/sanftes-yoga-3
LOCATION:Creativum\, Mittlere Ortstrasse 53\, Rülzheim\, 76761\, Deutschland
ATTACH;FMTTYPE=image/jpeg:https://michaela-martin.de/wp-content/uploads/2022/08/sanftes-yoga-fur-senioren-natur-germersheim.jpeg
END:VEVENT
BEGIN:VEVENT
DTSTART;TZID=Europe/Berlin:20240604T193000
DTEND;TZID=Europe/Berlin:20240604T204500
DTSTAMP:20260424T173823
CREATED:20240509T095842Z
LAST-MODIFIED:20240509T095842Z
UID:22911-1717529400-1717533900@michaela-martin.de
SUMMARY:Yoga für starke Frauen und Männer
DESCRIPTION:[eosb_row][eosb_column][eosb_column_text]\n\n\n\nYoga\n \nfür starke Frauen und Männer\n\n\nMit Yoga zu mehr Beweglichkeit und neuem Selbstvertrauen.\n \nYoga ist für alle da!\nWer sagt dass mollige Menschen nicht auch Yoga machen können.\n \nWage den ersten Schritt. Yoga ist mehr als Meditation und Om\, es stärkt dein Selbstbewusstsein\, macht dich flexibler und beweglicher\, und schenkt dir neue Körperwahrnehmung.\n \nEs ist eine Entdeckungsreise zu dir selbst.\nErlebe die bewusste Begegnung mit deinem Körper als Geschenk.\n\n \n\n\n \nSchön\, rund und lebendig… eben starke Frauen und Männer!\n\n \nJede Yogastunde ist einzigartig wie du.\n\n\n\n\n[/eosb_column_text][/eosb_column][/eosb_row]
URL:https://michaela-martin.de/event/yoga-fuer-starke-frauen-und-maenner-4-2
LOCATION:Creativum\, Mittlere Ortstrasse 53\, Rülzheim\, 76761\, Deutschland
ATTACH;FMTTYPE=image/jpeg:https://michaela-martin.de/wp-content/uploads/2023/07/yoga-fuer-starke-frauen-ruelzheim.jpeg
END:VEVENT
END:VCALENDAR