BEGIN:VCALENDAR
VERSION:2.0
PRODID:-//Michaela Martin - ECPv5.14.1//NONSGML v1.0//EN
CALSCALE:GREGORIAN
METHOD:PUBLISH
X-WR-CALNAME:Michaela Martin
X-ORIGINAL-URL:https://michaela-martin.de
X-WR-CALDESC:Veranstaltungen für Michaela Martin
BEGIN:VTIMEZONE
TZID:Europe/Berlin
BEGIN:DAYLIGHT
TZOFFSETFROM:+0100
TZOFFSETTO:+0200
TZNAME:CEST
DTSTART:20240331T010000
END:DAYLIGHT
BEGIN:STANDARD
TZOFFSETFROM:+0200
TZOFFSETTO:+0100
TZNAME:CET
DTSTART:20241027T010000
END:STANDARD
END:VTIMEZONE
BEGIN:VEVENT
DTSTART;TZID=Europe/Berlin:20240525T093000
DTEND;TZID=Europe/Berlin:20240525T140000
DTSTAMP:20260424T185840
CREATED:20240417T184019Z
LAST-MODIFIED:20240509T102923Z
UID:22166-1716629400-1716645600@michaela-martin.de
SUMMARY:Chakren Workshop
DESCRIPTION:[eosb_row][eosb_column][eosb_column_text]\n\n\nIn diesem vielfältigen Workshop kannst du mit Yoga aus verschiedenen Traditionen\, mit kreativen Übungen\, Coaching Methoden und durch Meditationen deine Ressourcen erleben und dein Potential entfalten.\nDieser Workshop unterstützt dich in deinem Selbstausdruck\ndurch die Chakren.\n \nWurzelchakra\nDurch starke Wurzeln\, können deine Träume\nauf gesundem Boden wachsen.\n \nSakralchakra\nDurch innere Freiheit\, lebst du Harmonie\nund lernst deinen Schatten zu transformieren.\n \nSolar Plexus\nDurch die Entwicklung vom Selbstwert erfährst du\nwie es ist verantwortungsbewusst zu handeln.\n \nHerzchakra\nDurch die Liebe nährst du dich und öffnest dich\nfür Verbundenheit und Dankbarkeit.\n \nHalschakra\nDurch das Sprechen deiner inneren Wahrheit kommst du\nin deinen Selbstausdruck.\n \nDrittes Auge\nDurch das Vertrauen auf deine Intuition\,\nwerden deine Träume wahr.\n \nKronenchakra\nEins sein mit allem was ist.\n\n[/eosb_column_text][/eosb_column][/eosb_row]
URL:https://michaela-martin.de/event/chakren-workshop-2
LOCATION:Creativum\, Mittlere Ortstrasse 53\, Rülzheim\, 76761\, Deutschland
ATTACH;FMTTYPE=image/jpeg:https://michaela-martin.de/wp-content/uploads/2023/09/die-7-chakren-michaela-martin.jpg
END:VEVENT
END:VCALENDAR