BEGIN:VCALENDAR
VERSION:2.0
PRODID:-//Michaela Martin - ECPv5.14.1//NONSGML v1.0//EN
CALSCALE:GREGORIAN
METHOD:PUBLISH
X-WR-CALNAME:Michaela Martin
X-ORIGINAL-URL:https://michaela-martin.de
X-WR-CALDESC:Veranstaltungen für Michaela Martin
BEGIN:VTIMEZONE
TZID:Europe/Berlin
BEGIN:DAYLIGHT
TZOFFSETFROM:+0100
TZOFFSETTO:+0200
TZNAME:CEST
DTSTART:20240331T010000
END:DAYLIGHT
BEGIN:STANDARD
TZOFFSETFROM:+0200
TZOFFSETTO:+0100
TZNAME:CET
DTSTART:20241027T010000
END:STANDARD
END:VTIMEZONE
BEGIN:VEVENT
DTSTART;TZID=Europe/Berlin:20240524T100000
DTEND;TZID=Europe/Berlin:20240524T170000
DTSTAMP:20260424T202937
CREATED:20231218T170431Z
LAST-MODIFIED:20240314T154311Z
UID:21894-1716544800-1716570000@michaela-martin.de
SUMMARY:Mutterleicht Kreativ
DESCRIPTION:[eosb_row][eosb_column][eosb_column_text]Der bewegende Weg als Frau und Managerin zum Glücklich und Zufrieden sein.\n\nIn diesem Workshop nimmst du dir Raum und Zeit deine Einzigartigkeit und Kreativität zu erkunden.\n\nDu wünscht dir mehr Leichtigkeit\, Einfachheit und Erfolg in deinem Leben?\nDu musst nicht perfekt sein um eine gute Frau und Managerin zu sein.\nWenn dein Herzenswunsch wahr wird…\nspürst du\, dass leben ist einfach und wunderbar.\n \nDieser Workshop inspiriert dich dazu ein selbstbestimmtes Leben zu führen egal ob deine Kinder noch sehr klein sind\, dabei sind das Haus zu verlassen oder du Oma bist.\n \nEs ist schön Managerin zu sein.\nEs ist schön Frau zu sein.\n \nDie innere Vitalität und Schönheit einer Frau zeigt sich in ihrem Selbstwertgefühl.\n \nVertraue deiner Intuition. Spüre die grosse Kraft und Stärke in dir. Verbinde dich mit deiner intuitiven Weisheit.\n[/eosb_column_text][/eosb_column][/eosb_row]
URL:https://michaela-martin.de/event/mutterleicht-kreativ-2
LOCATION:Creativum\, Mittlere Ortstrasse 53\, Rülzheim\, 76761\, Deutschland
ATTACH;FMTTYPE=image/png:https://michaela-martin.de/wp-content/uploads/2020/09/mama-und-managerin.png
END:VEVENT
END:VCALENDAR