BEGIN:VCALENDAR
VERSION:2.0
PRODID:-//Michaela Martin - ECPv5.14.1//NONSGML v1.0//EN
CALSCALE:GREGORIAN
METHOD:PUBLISH
X-WR-CALNAME:Michaela Martin
X-ORIGINAL-URL:https://michaela-martin.de
X-WR-CALDESC:Veranstaltungen für Michaela Martin
BEGIN:VTIMEZONE
TZID:Europe/Berlin
BEGIN:DAYLIGHT
TZOFFSETFROM:+0100
TZOFFSETTO:+0200
TZNAME:CEST
DTSTART:20230326T010000
END:DAYLIGHT
BEGIN:STANDARD
TZOFFSETFROM:+0200
TZOFFSETTO:+0100
TZNAME:CET
DTSTART:20231029T010000
END:STANDARD
END:VTIMEZONE
BEGIN:VEVENT
DTSTART;TZID=Europe/Berlin:20230929T180000
DTEND;TZID=Europe/Berlin:20230929T223000
DTSTAMP:20260426T025338
CREATED:20230203T103613Z
LAST-MODIFIED:20230203T103613Z
UID:20224-1696010400-1696026600@michaela-martin.de
SUMMARY:Vernissage
DESCRIPTION:[eosb_row][eosb_column][eosb_column_text]Zwei Künstlerinen laden ein\,\nzur Vernissage\, gemütlichem beisammensein und inspirierenden Momenten.\n\nVerbundene Grüße\nInge Kern und Michaela Martin[/eosb_column_text][/eosb_column][/eosb_row]
URL:https://michaela-martin.de/event/vernissage-2
LOCATION:Weißenburgertor in Germrsheim\, Paradeplatz 10\, Germersheim\, 76726\, Deutschland
ATTACH;FMTTYPE=image/jpeg:https://michaela-martin.de/wp-content/uploads/2023/02/die-kunst-tochter-der-freiheit.jpg
END:VEVENT
END:VCALENDAR