BEGIN:VCALENDAR
VERSION:2.0
PRODID:-//Michaela Martin - ECPv5.14.1//NONSGML v1.0//EN
CALSCALE:GREGORIAN
METHOD:PUBLISH
X-WR-CALNAME:Michaela Martin
X-ORIGINAL-URL:https://michaela-martin.de
X-WR-CALDESC:Veranstaltungen für Michaela Martin
BEGIN:VTIMEZONE
TZID:Europe/Berlin
BEGIN:DAYLIGHT
TZOFFSETFROM:+0100
TZOFFSETTO:+0200
TZNAME:CEST
DTSTART:20240331T010000
END:DAYLIGHT
BEGIN:STANDARD
TZOFFSETFROM:+0200
TZOFFSETTO:+0100
TZNAME:CET
DTSTART:20241027T010000
END:STANDARD
END:VTIMEZONE
BEGIN:VEVENT
DTSTART;TZID=Europe/Berlin:20240127T130000
DTEND;TZID=Europe/Berlin:20240127T160000
DTSTAMP:20260425T042541
CREATED:20240116T074039Z
LAST-MODIFIED:20240116T160704Z
UID:22011-1706360400-1706371200@michaela-martin.de
SUMMARY:Symbiose von LandArt und Natur
DESCRIPTION:[eosb_row][eosb_column][eosb_empty_space][eosb_column_text]\nWorkshop-Highlights:\n \n \n\n 	Freie Emotionsentfaltung: Erlebe\, wie Kunst und Natur deine Emotionen befreien und in kreativer Energie umwandeln.\n\n\n 	Stille im Chaos finden: Tauche ein in die beruhigende Atmosphäre des Bornpfuhls und finde mitten im Chaos des Alltags deine innere Ruhe.\n\n\n 	Natur als Spiegel der Seele: Lass die Natur zu deinem Spiegel werden und entdecke die einzigartige Reflexion deiner Seele.\n\n\n 	Mit Erich Ofer und Michaela Martin: Erich Ofer mit seinem umfangreichen Waldwissen und Michaela Martin als Coach und Künstlerin. Gemeinsam tauchen wir ein in die Welt der „LandArt“.\n\n[/eosb_column_text][eosb_simple_button title=“Erfahre mehr“ url=“https://michaela-martin.de/symbiose-von-kunst-und-natur“][/eosb_column][/eosb_row]
URL:https://michaela-martin.de/event/symbiose-von-landart-und-natur
LOCATION:Vogelschutzgebiet ‚Am Bornpfuhl‘ in Germersheim\, Am Vogelpark\, Germersheim\, Rheinland-Pfalz\, 76726\, Deutschland
ATTACH;FMTTYPE=image/jpeg:https://michaela-martin.de/wp-content/uploads/2024/01/shutterstock-671227492-1.jpg
END:VEVENT
END:VCALENDAR