BEGIN:VCALENDAR
VERSION:2.0
PRODID:-//Michaela Martin - ECPv5.14.1//NONSGML v1.0//EN
CALSCALE:GREGORIAN
METHOD:PUBLISH
X-WR-CALNAME:Michaela Martin
X-ORIGINAL-URL:https://michaela-martin.de
X-WR-CALDESC:Veranstaltungen für Michaela Martin
BEGIN:VTIMEZONE
TZID:Europe/Berlin
BEGIN:DAYLIGHT
TZOFFSETFROM:+0100
TZOFFSETTO:+0200
TZNAME:CEST
DTSTART:20240331T010000
END:DAYLIGHT
BEGIN:STANDARD
TZOFFSETFROM:+0200
TZOFFSETTO:+0100
TZNAME:CET
DTSTART:20241027T010000
END:STANDARD
END:VTIMEZONE
BEGIN:VEVENT
DTSTART;TZID=Europe/Berlin:20240716T103000
DTEND;TZID=Europe/Berlin:20240716T114500
DTSTAMP:20260424T173838
CREATED:20240705T203628Z
LAST-MODIFIED:20240705T203628Z
UID:24120-1721125800-1721130300@michaela-martin.de
SUMMARY:Sanftes Yoga
DESCRIPTION:[eosb_row][eosb_column][eosb_column_text]\n\nSanftes Yoga\n\n\n\n\nYoga ist eine bereichernde und wohltuende Aktivität für Körper\, Seele und Geist.\n\nYoga hilft dir deine Beweglichkeit\, dein Gleichgewicht und deine Eigenständigkeit zu erlangen.\n\nDie Entspannung führt dich in ein körperliches Wohlgefühl\, zur inneren Ruhe und zu verbesserter Konzentration.\n\nYoga lässt sich für jeden individuell anpassen\, unabhängig von der vorhandenen Fitness oder Gelenkigkeit.\n\n\n[/eosb_column_text][/eosb_column][/eosb_row]
URL:https://michaela-martin.de/event/sanftes-yoga-1-3
LOCATION:Creativum\, Mittlere Ortstrasse 53\, Rülzheim\, 76761\, Deutschland
ATTACH;FMTTYPE=image/jpeg:https://michaela-martin.de/wp-content/uploads/2022/08/sanftes-yoga-fur-senioren-natur-germersheim.jpeg
END:VEVENT
END:VCALENDAR