BEGIN:VCALENDAR
VERSION:2.0
PRODID:-//Michaela Martin - ECPv5.14.1//NONSGML v1.0//EN
CALSCALE:GREGORIAN
METHOD:PUBLISH
X-WR-CALNAME:Michaela Martin
X-ORIGINAL-URL:https://michaela-martin.de
X-WR-CALDESC:Veranstaltungen für Michaela Martin
BEGIN:VTIMEZONE
TZID:Europe/Berlin
BEGIN:DAYLIGHT
TZOFFSETFROM:+0100
TZOFFSETTO:+0200
TZNAME:CEST
DTSTART:20210328T010000
END:DAYLIGHT
BEGIN:STANDARD
TZOFFSETFROM:+0200
TZOFFSETTO:+0100
TZNAME:CET
DTSTART:20211031T010000
END:STANDARD
END:VTIMEZONE
BEGIN:VEVENT
DTSTART;TZID=Europe/Berlin:20210621T090000
DTEND;TZID=Europe/Berlin:20210621T120000
DTSTAMP:20260426T061107
CREATED:20201127T003243Z
LAST-MODIFIED:20210607T102257Z
UID:978-1624266000-1624276800@michaela-martin.de
SUMMARY:Natur er-leben
DESCRIPTION:[eosb_row][eosb_column][eosb_column_text]\nWeisst du wie es ist in der Stille zu hören? Deine Werte zu erkennen? Verbinde dich mit der Natur um mehr Leichtigkeit\, Fülle und Freiheit zu erleben.\n \nFür mehr Kreativität und Eigenwilligkeit im Leben.\n \nErlebe Veränderung.\n[/eosb_column_text][/eosb_column][/eosb_row]
URL:https://michaela-martin.de/event/natur-er-leben-2
LOCATION:Treffpunkt Vogelhütte Lingenfeld
ATTACH;FMTTYPE=image/png:https://michaela-martin.de/wp-content/uploads/2020/11/waldbaden-workshop-weg-innere-freiheit.png
END:VEVENT
END:VCALENDAR