BEGIN:VCALENDAR
VERSION:2.0
PRODID:-//Michaela Martin - ECPv5.14.1//NONSGML v1.0//EN
CALSCALE:GREGORIAN
METHOD:PUBLISH
X-WR-CALNAME:Michaela Martin
X-ORIGINAL-URL:https://michaela-martin.de
X-WR-CALDESC:Veranstaltungen für Michaela Martin
BEGIN:VTIMEZONE
TZID:Europe/Berlin
BEGIN:DAYLIGHT
TZOFFSETFROM:+0100
TZOFFSETTO:+0200
TZNAME:CEST
DTSTART:20240331T010000
END:DAYLIGHT
BEGIN:STANDARD
TZOFFSETFROM:+0200
TZOFFSETTO:+0100
TZNAME:CET
DTSTART:20241027T010000
END:STANDARD
END:VTIMEZONE
BEGIN:VEVENT
DTSTART;TZID=Europe/Berlin:20240113T090000
DTEND;TZID=Europe/Berlin:20240113T120000
DTSTAMP:20260425T060444
CREATED:20231218T161038Z
LAST-MODIFIED:20231218T161117Z
UID:21888-1705136400-1705147200@michaela-martin.de
SUMMARY:Kreativ Yoga
DESCRIPTION:[eosb_row][eosb_column][eosb_empty_space height=“12px“][eosb_column_text]\nKreativ Yoga\n \n\nIn unseren gemeinsamen Kreis ermutigen wir die Praxis der Dankbarkeit und Liebe – Dankbarkeit für deinen Körper und dein Leben\, für die Liebe zu dir selbst und anderen.\n\nIn diesem 3 Stunden Yoga Retreat biete ich dir einen großen Schatz von Tools\, Techniken und Erfahrungen an\, um dir einen Raum zu schaffen in welchem du dich entfalten kannst und somit ein Leben zu gestalten\, welches dich erfüllt und nährt.\n \n\n\nKreative Methoden aus denen ich schöpfe:\n\n\n\n 	Yoga\n 	Verbindung mit unseren Chakren\n 	Intuitives malen\, gestalten und kreativer Ausdruck\n\n\n\nDie individuellen Yogastunden sind darauf ausgerichtet\, dein persönlichen Bedürfnisse und Ziele zu berücksichtigen.\n\n\n\n[/eosb_column_text][/eosb_column][/eosb_row]
URL:https://michaela-martin.de/event/kreativ-yoga-3-2
LOCATION:Creativum\, Mittlere Ortstrasse 53\, Rülzheim\, 76761\, Deutschland
ATTACH;FMTTYPE=image/jpeg:https://michaela-martin.de/wp-content/uploads/2023/10/michaela-martin-kreativ-seminare-naturcoaching-und-waldbaden-in-ruelzheim-karlsruhe-und-umgebung-yoga-8.jpg
END:VEVENT
END:VCALENDAR