BEGIN:VCALENDAR
VERSION:2.0
PRODID:-//Michaela Martin - ECPv5.14.1//NONSGML v1.0//EN
CALSCALE:GREGORIAN
METHOD:PUBLISH
X-WR-CALNAME:Michaela Martin
X-ORIGINAL-URL:https://michaela-martin.de
X-WR-CALDESC:Veranstaltungen für Michaela Martin
BEGIN:VTIMEZONE
TZID:Europe/Berlin
BEGIN:DAYLIGHT
TZOFFSETFROM:+0100
TZOFFSETTO:+0200
TZNAME:CEST
DTSTART:20230326T010000
END:DAYLIGHT
BEGIN:STANDARD
TZOFFSETFROM:+0200
TZOFFSETTO:+0100
TZNAME:CET
DTSTART:20231029T010000
END:STANDARD
END:VTIMEZONE
BEGIN:VEVENT
DTSTART;TZID=Europe/Berlin:20231212T193000
DTEND;TZID=Europe/Berlin:20231212T204500
DTSTAMP:20260425T122105
CREATED:20231102T004335Z
LAST-MODIFIED:20231102T004335Z
UID:21822-1702409400-1702413900@michaela-martin.de
SUMMARY:Kreativ Yoga
DESCRIPTION:[eosb_row][eosb_column][eosb_empty_space height=“12px“][eosb_column_text]\nKreativ Yoga\n \n\n\nIn unseren gemeinsamen Yogastunden ermutigen wir die Praxis der Dankbarkeit und Liebe – Dankbarkeit für deinen Körper und dein Leben\, für die Liebe zu dir selbst und anderen.\n\n\n \nYogamethoden aus denen ich schöpfe \n\n\n 	Hathayoga\n 	Ayur Yoga\n 	Kundalini Yoga\n 	Yin Yoga\n 	Asanas\n 	Atemtechniken\n 	Trancereisen\n 	Meditation\n 	Mantras\n\nDie individuellen Yogastunden sind darauf ausgerichtet\, dein persönlichen Bedürfnisse und Ziele zu berücksichtigen.[/eosb_column_text][/eosb_column][/eosb_row]
URL:https://michaela-martin.de/event/kreativ-yoga-2-2-2
LOCATION:Creativum\, Mittlere Ortstrasse 53\, Rülzheim\, 76761\, Deutschland
ATTACH;FMTTYPE=image/jpeg:https://michaela-martin.de/wp-content/uploads/2023/10/michaela-martin-kreativ-seminare-naturcoaching-und-waldbaden-in-ruelzheim-karlsruhe-und-umgebung-yoga-8.jpg
END:VEVENT
END:VCALENDAR