BEGIN:VCALENDAR
VERSION:2.0
PRODID:-//Michaela Martin - ECPv5.14.1//NONSGML v1.0//EN
CALSCALE:GREGORIAN
METHOD:PUBLISH
X-WR-CALNAME:Michaela Martin
X-ORIGINAL-URL:https://michaela-martin.de
X-WR-CALDESC:Veranstaltungen für Michaela Martin
BEGIN:VTIMEZONE
TZID:Europe/Berlin
BEGIN:DAYLIGHT
TZOFFSETFROM:+0100
TZOFFSETTO:+0200
TZNAME:CEST
DTSTART:20240331T010000
END:DAYLIGHT
BEGIN:STANDARD
TZOFFSETFROM:+0200
TZOFFSETTO:+0100
TZNAME:CET
DTSTART:20241027T010000
END:STANDARD
END:VTIMEZONE
BEGIN:VEVENT
DTSTART;TZID=Europe/Berlin:20240722T083000
DTEND;TZID=Europe/Berlin:20240722T090000
DTSTAMP:20260424T162720
CREATED:20240712T195934Z
LAST-MODIFIED:20240722T063257Z
UID:24231-1721637000-1721638800@michaela-martin.de
SUMMARY:Demotermin Yolawo
DESCRIPTION:──────────Fabian Kirst lädt Sie zu einem geplanten Google Meet Meeting ein.Am Google Meet-Meeting teilnehmen: https://meet.google.com/aya-iudw-nyoNehmen Sie telefonisch an einem Meeting teil\, indem Sie sich über Ihre lokale Einwahlnummer einwählen: https://tel.meet/aya-iudw-nyo?pin=6041364758297──────────\nJoin with Google Meet: https://meet.google.com/aya-iudw-nyo\nLearn more about Meet at: https://support.google.com/a/users/answer/9282720
URL:https://michaela-martin.de/event/demotermin-yolawo
LOCATION:https://meet.google.com/aya-iudw-nyo
ORGANIZER;CN="fabian.kirst%40yolawo.de":MAILTO:fabian.kirst@yolawo.de
END:VEVENT
END:VCALENDAR