BEGIN:VCALENDAR
VERSION:2.0
PRODID:-//Michaela Martin - ECPv5.14.1//NONSGML v1.0//EN
CALSCALE:GREGORIAN
METHOD:PUBLISH
X-WR-CALNAME:Michaela Martin
X-ORIGINAL-URL:https://michaela-martin.de
X-WR-CALDESC:Veranstaltungen für Michaela Martin
BEGIN:VTIMEZONE
TZID:Europe/Berlin
BEGIN:DAYLIGHT
TZOFFSETFROM:+0100
TZOFFSETTO:+0200
TZNAME:CEST
DTSTART:20240331T010000
END:DAYLIGHT
BEGIN:STANDARD
TZOFFSETFROM:+0200
TZOFFSETTO:+0100
TZNAME:CET
DTSTART:20241027T010000
END:STANDARD
END:VTIMEZONE
BEGIN:VEVENT
DTSTART;TZID=Europe/Berlin:20240420T070000
DTEND;TZID=Europe/Berlin:20240420T080000
DTSTAMP:20260425T011302
CREATED:20220409T211947Z
LAST-MODIFIED:20240314T160221Z
UID:8490-1713596400-1713600000@michaela-martin.de
SUMMARY:Breathwalk
DESCRIPTION:[eosb_row][eosb_column][eosb_column_text]Möchtest du Stress abbauen?\nDich mit deiner Intuition verbinden?\n\nBreathwalk ist eine Methode die bewusstes Atmen\, Walking und Aufmerksamkeitsübungen miteinander kombiniert.\nWir trainieren auf der einen Seite unseren Körper und darüber hinaus erreichen wir unseren Geist\, so dass wachsende Vitalität und meditative Erfahrungen unser Leben bereichern.[/eosb_column_text][/eosb_column][/eosb_row]
URL:https://michaela-martin.de/event/breathwalk-april-2024
LOCATION:Westheim am Sportplatz\, Sportplatz\, Holzmühlstraße\, Westheim(Pfalz)\, 67368\, Deutschland
ATTACH;FMTTYPE=image/png:https://michaela-martin.de/wp-content/uploads/2020/11/coaching-workshops-yoga-kinderyoga.png
END:VEVENT
END:VCALENDAR